BEGIN:VCALENDAR
VERSION:2.0
PRODID:-//South Carolina Stingrays//stingrayshockey.com//EN
CALSCALE:GREGORIAN
BEGIN:VEVENT
UID:https://stingrayshockey.com/games/2026/04/25/atlanta-gladiators
DTSTAMP:20260420T041319Z
SUMMARY:Atlanta Gladiators @ South Carolina Stingrays
DTSTART;TZID=Canada/Eastern:20260425T180500
DTEND;TZID=Canada/Eastern:20260425T210500
DESCRIPTION:Atlanta Gladiators at South Carolina Stingrays
LOCATION:North Charleston Coliseum\, North Charleston\, South Carolina
URL;VALUE=URI:https://stingrayshockey.com/games/2026/04/25/atlanta-gladiato
 rs
END:VEVENT
END:VCALENDAR
