BEGIN:VCALENDAR
VERSION:2.0
PRODID:-//South Carolina Stingrays//stingrayshockey.com//EN
CALSCALE:GREGORIAN
BEGIN:VEVENT
UID:https://stingrayshockey.com/games/2026/05/01/atlanta-gladiators
DTSTAMP:20260420T040640Z
SUMMARY:Atlanta Gladiators @ South Carolina Stingrays
DTSTART;TZID=Canada/Eastern:20260501T190500
DTEND;TZID=Canada/Eastern:20260501T220500
DESCRIPTION:Atlanta Gladiators at South Carolina Stingrays
LOCATION:North Charleston Coliseum\, North Charleston\, South Carolina
URL;VALUE=URI:https://stingrayshockey.com/games/2026/05/01/atlanta-gladiato
 rs
END:VEVENT
END:VCALENDAR
